BEGIN:VCALENDAR
VERSION:2.0
PRODID:-//Zero Waste Groene Hart - ECPv6.15.20//NONSGML v1.0//EN
CALSCALE:GREGORIAN
METHOD:PUBLISH
X-WR-CALNAME:Zero Waste Groene Hart
X-ORIGINAL-URL:https://zerowastegroenehart.nl
X-WR-CALDESC:Evenementen voor Zero Waste Groene Hart
REFRESH-INTERVAL;VALUE=DURATION:PT1H
X-Robots-Tag:noindex
X-PUBLISHED-TTL:PT1H
BEGIN:VTIMEZONE
TZID:Europe/Amsterdam
BEGIN:DAYLIGHT
TZOFFSETFROM:+0100
TZOFFSETTO:+0200
TZNAME:CEST
DTSTART:20240331T010000
END:DAYLIGHT
BEGIN:STANDARD
TZOFFSETFROM:+0200
TZOFFSETTO:+0100
TZNAME:CET
DTSTART:20241027T010000
END:STANDARD
BEGIN:DAYLIGHT
TZOFFSETFROM:+0100
TZOFFSETTO:+0200
TZNAME:CEST
DTSTART:20250330T010000
END:DAYLIGHT
BEGIN:STANDARD
TZOFFSETFROM:+0200
TZOFFSETTO:+0100
TZNAME:CET
DTSTART:20251026T010000
END:STANDARD
BEGIN:DAYLIGHT
TZOFFSETFROM:+0100
TZOFFSETTO:+0200
TZNAME:CEST
DTSTART:20260329T010000
END:DAYLIGHT
BEGIN:STANDARD
TZOFFSETFROM:+0200
TZOFFSETTO:+0100
TZNAME:CET
DTSTART:20261025T010000
END:STANDARD
END:VTIMEZONE
BEGIN:VEVENT
DTSTART;TZID=Europe/Amsterdam:20251128T100000
DTEND;TZID=Europe/Amsterdam:20251220T150000
DTSTAMP:20260425T145654
CREATED:20251121T182430Z
LAST-MODIFIED:20251121T184901Z
UID:17723-1764324000-1766242800@zerowastegroenehart.nl
SUMMARY:👗Free fashion
DESCRIPTION:Maak van Black Friday een Green Friday en bespaar geld en grondstoffen. In de duurzaamheidswinkel kun je terecht voor gratis\, feest\, kleding. Vanaf vrijdag 28 november tot kerst staat er een “Free Fashion” kledingrek in de winkel. Neem wat je kunt gebruiken. Heb je zelf nog iets hangen wat nog mooi is maar wat je niet meer draagt? Dit is je kans om iemand anders er blij mee te maken. \n 
URL:https://zerowastegroenehart.nl/event/%f0%9f%91%97free-fashion/
LOCATION:Duurzaamheidswinkel\, Voorstraat 75\, Woerden\, Utrecht\, 3441CH\, Netherlands
END:VEVENT
END:VCALENDAR