BEGIN:VCALENDAR
VERSION:2.0
PRODID:-//Zero Waste Groene Hart - ECPv6.15.20//NONSGML v1.0//EN
CALSCALE:GREGORIAN
METHOD:PUBLISH
X-WR-CALNAME:Zero Waste Groene Hart
X-ORIGINAL-URL:https://zerowastegroenehart.nl
X-WR-CALDESC:Evenementen voor Zero Waste Groene Hart
REFRESH-INTERVAL;VALUE=DURATION:PT1H
X-Robots-Tag:noindex
X-PUBLISHED-TTL:PT1H
BEGIN:VTIMEZONE
TZID:Europe/Amsterdam
BEGIN:DAYLIGHT
TZOFFSETFROM:+0100
TZOFFSETTO:+0200
TZNAME:CEST
DTSTART:20250330T010000
END:DAYLIGHT
BEGIN:STANDARD
TZOFFSETFROM:+0200
TZOFFSETTO:+0100
TZNAME:CET
DTSTART:20251026T010000
END:STANDARD
BEGIN:DAYLIGHT
TZOFFSETFROM:+0100
TZOFFSETTO:+0200
TZNAME:CEST
DTSTART:20260329T010000
END:DAYLIGHT
BEGIN:STANDARD
TZOFFSETFROM:+0200
TZOFFSETTO:+0100
TZNAME:CET
DTSTART:20261025T010000
END:STANDARD
BEGIN:DAYLIGHT
TZOFFSETFROM:+0100
TZOFFSETTO:+0200
TZNAME:CEST
DTSTART:20270328T010000
END:DAYLIGHT
BEGIN:STANDARD
TZOFFSETFROM:+0200
TZOFFSETTO:+0100
TZNAME:CET
DTSTART:20271031T010000
END:STANDARD
END:VTIMEZONE
BEGIN:VEVENT
DTSTART;TZID=Europe/Amsterdam:20260507T180000
DTEND;TZID=Europe/Amsterdam:20260507T210000
DTSTAMP:20260424T153526
CREATED:20260210T162449Z
LAST-MODIFIED:20260211T100231Z
UID:17944-1778176800-1778187600@zerowastegroenehart.nl
SUMMARY:Tafelen met Klimaatburgemeesters
DESCRIPTION:Een avond vol smaak en goede klimaatgesprekken.\n\n\n\nSchuif aan bij een onvergetelijke Klimaattafel in gezellige ruimte van Zonder Meer in Bodegraven. De Klimaatburgemeesters van Bodegraven en Woerden ontvangen je voor een avond vol smaak en ontmoeting. \nHet menu?\nEen ongelofelijk lekker en klimaatneutraal bordje eten\, leuke mensen\, laagdrempelige gesprekken met een toefje serieuze klimaatzaken.\n‍\nIn de vorm van een zogeheten ‘klimaat conversatie diner‘ gaan we in kleine groepen met elkaar in gesprek over hoe we – ieder op onze eigen manier – kunnen bijdragen aan een duurzamere toekomst. Geen zware kost\, maar wél echte gesprekken die raken én aanzetten tot actie. \nPraktisch\nDatum: donderdag 7 mei\nTijd: 18:00 – 21:00 uur\nLocatie: Zonder Meer\,  Bodegraven\nPrijs: nog niet bekend
URL:https://zerowastegroenehart.nl/event/eten-met-klimaatburgemeester/
LOCATION:Zonder Meer\, Prins Hendrikstraat 11\,\, Bodegraven\, Zuid-Holland\, 2411 CR
CATEGORIES:Netwerken,Samen Eten
END:VEVENT
BEGIN:VEVENT
DTSTART;TZID=Europe/Amsterdam:20260520T200000
DTEND;TZID=Europe/Amsterdam:20260520T213000
DTSTAMP:20260424T153526
CREATED:20260311T200328Z
LAST-MODIFIED:20260318T194001Z
UID:18124-1779307200-1779312600@zerowastegroenehart.nl
SUMMARY:📆🌳Klimaatexamen
DESCRIPTION:Een examen voor jong & oud\nHet Klimaatexamen is laagdrempelig\, gratis en iedereen kan het maken. Er is zowel een Klimaatexamen voor volwassen en voor jongeren. Overal in Nederland\, ook in Woerden. Zero Waste Groene Hart organiseert het klimaatexamen in de Raadzaal in het Gemeentehuis.  \nTest je kennis over het klimaat op woensdagavond 20 mei. Kom samen met  je ouders\, buren\, vrienden en maak er een leuke competitie van. Haal jij een 10 op 10? De uitslag van het examen krijg je meteen dezelfde avond te horen. Er is plek voor 35 personen. Dus reserveer snel. \nOpgeven kan door je aan te melden via: https://klimaatexamen.nl/woerden-gemeentehuis. \n\n 
URL:https://zerowastegroenehart.nl/event/%f0%9f%93%86%f0%9f%8c%b3klimaatexamen/
LOCATION:Gemeentehuis
END:VEVENT
BEGIN:VEVENT
DTSTART;TZID=Europe/Amsterdam:20260529T100000
DTEND;TZID=Europe/Amsterdam:20260626T150000
DTSTAMP:20260424T153526
CREATED:20260330T144219Z
LAST-MODIFIED:20260405T093222Z
UID:18287-1780048800-1782486000@zerowastegroenehart.nl
SUMMARY:🪷🌻Expositie "Bloemen met impact"
DESCRIPTION:Van 29 mei – 26 juni in de Duurzaamheidswinkel\, Voorstraat 75\, Woerden (voor openingstijden zie hier). \nIs er een alternatief voor het wekelijkse verse bosje bloemen op tafel? Zeven kunstenaars laten zien dat bloemen ook gifvrij kunnen. Er worden bloemen getoond die gehaakt zijn\, van keramiek\, vilt\, papier\, geschilderd\, enz. De bloemen zijn niet te koop maar zijn ter inspiratie. De expositie is te zien in de \nZie hier voor meer informatie over (gifvrije)bloemen.
URL:https://zerowastegroenehart.nl/event/%f0%9f%aa%b7%f0%9f%8c%bbexpositie-bloemen-met-impact/
LOCATION:Duurzaamheidswinkel\, Voorstraat 75\, Woerden\, Utrecht\, 3441CH\, Netherlands
END:VEVENT
END:VCALENDAR