BEGIN:VCALENDAR
VERSION:2.0
PRODID:-//Zero Waste Groene Hart - ECPv6.15.20//NONSGML v1.0//EN
CALSCALE:GREGORIAN
METHOD:PUBLISH
X-ORIGINAL-URL:https://zerowastegroenehart.nl
X-WR-CALDESC:Evenementen voor Zero Waste Groene Hart
REFRESH-INTERVAL;VALUE=DURATION:PT1H
X-Robots-Tag:noindex
X-PUBLISHED-TTL:PT1H
BEGIN:VTIMEZONE
TZID:Europe/Amsterdam
BEGIN:DAYLIGHT
TZOFFSETFROM:+0100
TZOFFSETTO:+0200
TZNAME:CEST
DTSTART:20240331T010000
END:DAYLIGHT
BEGIN:STANDARD
TZOFFSETFROM:+0200
TZOFFSETTO:+0100
TZNAME:CET
DTSTART:20241027T010000
END:STANDARD
BEGIN:DAYLIGHT
TZOFFSETFROM:+0100
TZOFFSETTO:+0200
TZNAME:CEST
DTSTART:20250330T010000
END:DAYLIGHT
BEGIN:STANDARD
TZOFFSETFROM:+0200
TZOFFSETTO:+0100
TZNAME:CET
DTSTART:20251026T010000
END:STANDARD
BEGIN:DAYLIGHT
TZOFFSETFROM:+0100
TZOFFSETTO:+0200
TZNAME:CEST
DTSTART:20260329T010000
END:DAYLIGHT
BEGIN:STANDARD
TZOFFSETFROM:+0200
TZOFFSETTO:+0100
TZNAME:CET
DTSTART:20261025T010000
END:STANDARD
BEGIN:DAYLIGHT
TZOFFSETFROM:+0100
TZOFFSETTO:+0200
TZNAME:CEST
DTSTART:20270328T010000
END:DAYLIGHT
BEGIN:STANDARD
TZOFFSETFROM:+0200
TZOFFSETTO:+0100
TZNAME:CET
DTSTART:20271031T010000
END:STANDARD
END:VTIMEZONE
BEGIN:VEVENT
DTSTART;TZID=Europe/Amsterdam:20260414T140000
DTEND;TZID=Europe/Amsterdam:20260414T153000
DTSTAMP:20260426T033234
CREATED:20251013T175604Z
LAST-MODIFIED:20260311T203955Z
UID:17546-1776175200-1776180600@zerowastegroenehart.nl
SUMMARY:Clean Up - Stadshart
DESCRIPTION:Maak van je Stadshart geen vuilkuil!\nDoe mee elke tweede dinsdag van de maand. \nPlastic\, peuken\, blikjes – het hoort niet op straat. Samen maken we korte metten met zwerfafval. De Duurzaamheidswinkel ondersteunt het initiatief en trakteert deelnemers na afloop op gratis koffie en thee. \nGezellig én zinvol \nEen uurtje zwerfvuil rapen is niet alleen goed voor de wijk\, het is ook gezellig en verbindend. Ontmoet buurtgenoten\, steek samen de handen uit de mouwen en geniet daarna van een welverdiende pauze. \n📅 Dinsdag 14 april 2026 \n⏰ 14.00 uur verzamelen bij De Duurzaamheidswinkel \n☕ 15.00 uur koffie/thee in De Duurzaamheidswinkel \n🛠️ Afvalgrijpers en vuilniszakken zijn aanwezig. \n📧 Meer info: zerowaste@duurzaamwoerden.nl \n📌 Aanmelden is niet nodig\, gewoon komen!
URL:https://zerowastegroenehart.nl/event/clean-up-stadshart-4/
LOCATION:Duurzaamheidswinkel\, Voorstraat 75\, Woerden\, Utrecht\, 3441CH\, Netherlands
CATEGORIES:Clean Up
END:VEVENT
BEGIN:VEVENT
DTSTART;TZID=Europe/Amsterdam:20260404T100000
DTEND;TZID=Europe/Amsterdam:20260404T113000
DTSTAMP:20260426T033234
CREATED:20251120T130005Z
LAST-MODIFIED:20260307T191632Z
UID:17564-1775296800-1775302200@zerowastegroenehart.nl
SUMMARY:Clean Up - Schilderskwartier
DESCRIPTION:Gewoonweg Schoon in het Schilderskwartier\nElke eerste zaterdag van de maand steken de buurbewoners van het schilderskwartier de handen uit de mouwen.\nPlastic\, peuken\, blikjes – het hoort niet op straat. Samen maken we korte metten met zwerfafval.\nAanmelden is niet nodig. Kom gewoon en doe mee; gezellig én nuttig! \nPraktische info:\n📅 Zaterdag 4 april\n⏰ 10.00 uur verzamelen bij De Plint\n⏰ 11.00 uur koffie/thee en lekkers bij Karim\, Delicious Chicken\n🛠️ Afvalgrijpers zijn te verkrijgen bij het Stadserf\, vuilniszakken zijn aanwezig.\n📧 Meer info: zerowaste@duurzaamwoerden.nl\n📌 Aanmelden is niet nodig\, gewoon komen! \nSamen zorgen we voor een spic en span Tournoysveld. Doe mee en laat zien dat jij trots bent op je buurt!
URL:https://zerowastegroenehart.nl/event/clean-up-schilderskwartier-4/
LOCATION:De Plint\, Jozef Isreallaan 20A\, 3443 CS Woerden\, Utrecht\, Netherlands
CATEGORIES:Clean Up
END:VEVENT
BEGIN:VEVENT
DTSTART;TZID=Europe/Amsterdam:20260321T101500
DTEND;TZID=Europe/Amsterdam:20260321T120000
DTSTAMP:20260426T033234
CREATED:20251118T155451Z
LAST-MODIFIED:20260305T113511Z
UID:17716-1774088100-1774094400@zerowastegroenehart.nl
SUMMARY:🧹Landelijke opschoondag in Woerden
DESCRIPTION:Landelijke opschoondag zaterdag 21 maart \nNoteer vast in de agenda. Gemeente Woerden\, Zero Waste Groene Hart\, de Sportsaeck\, Stadshart Woerden\, de Ambassadeurs van Zero Waste Groene Hart\, de Groene Kerk\, Samen in Woerden\, Clytoneus en anderen slaan de handen ineen. \nDoe jij met jouw organisatie dit jaar ook mee? Laat weten aan zerowaste@duurzaamwoerden.nl. \n📅 Zaterdag 21 maart \n⏰ Stadshart –> aanmelden bij zerowaste@duurzaamwoerden.nl.\n10:15 – Verzamelen en grijper ophalen bij de Sportsaeck\n10:30 – Groepje maken\, kaart van jouw “gebiedje” mee en Plandelen maar\n11:30 – Gele zak inleveren en koffie bij de Sportsaeck \n⏰Snel en Polanen –> aanmelden bij opschoondag@hetbakenwoerden.nl\n10:15 – Verzamelen en grijper ophalen bij Het Baken\n10:30 – Groepje maken\, kaart van jouw “gebiedje” mee en Plandelen maar\n11:30 – Gele zak inleveren en koffie drinken \n🛠️ Afvalgrijpers en vuilniszakken verkrijgbaar bij de verzamelpunten. Je eigen spullen meenemen? Graag! \nFeitje:\nMet 55.000 deelnemers en 2.321 opschoonacties was de Landelijke Opschoondag ook in 2025 een groot succes. Samen hebben we onze omgeving weer een stuk schoner gemaakt. In heel Nederland werd samengewerkt door jong én oud. Iedereen kon mee doen\, buren\, bedrijven\, scholen\, verenigingen en gemeenten\, noem maar op!
URL:https://zerowastegroenehart.nl/event/landelijke-opschoondag/
LOCATION:Sportsaeck\, Nieuwstraat\, Woerden\, Utrecht\, Netherlands
CATEGORIES:Activiteit,Clean Up,Netwerken
END:VEVENT
BEGIN:VEVENT
DTSTART;TZID=Europe/Amsterdam:20260310T140000
DTEND;TZID=Europe/Amsterdam:20260310T153000
DTSTAMP:20260426T033234
CREATED:20251120T130015Z
LAST-MODIFIED:20251120T130459Z
UID:17550-1773151200-1773156600@zerowastegroenehart.nl
SUMMARY:Clean Up - Stadshart
DESCRIPTION:Maak van je Stadshart geen vuilkuil!\nDoe mee elke tweede dinsdag van de maand. \nPlastic\, peuken\, blikjes – het hoort niet op straat. Samen maken we korte metten met zwerfafval. De Duurzaamheidswinkel ondersteunt het initiatief en trakteert deelnemers na afloop op gratis koffie en thee. \nGezellig én zinvol \nEen uurtje zwerfvuil rapen is niet alleen goed voor de wijk\, het is ook gezellig en verbindend. Ontmoet buurtgenoten\, steek samen de handen uit de mouwen en geniet daarna van een welverdiende pauze. \n📅 Dinsdag 10 maart 2026 \n⏰ 14.00 uur verzamelen bij De Duurzaamheidswinkel \n☕ 15.00 uur koffie/thee in De Duurzaamheidswinkel \n🛠️ Afvalgrijpers en vuilniszakken zijn aanwezig. \n📧 Meer info: zerowaste@duurzaamwoerden.nl \n📌 Aanmelden is niet nodig\, gewoon komen!
URL:https://zerowastegroenehart.nl/event/clean-up-stadshart-6/
LOCATION:Duurzaamheidswinkel\, Voorstraat 75\, Woerden\, Utrecht\, 3441CH\, Netherlands
CATEGORIES:Clean Up
END:VEVENT
BEGIN:VEVENT
DTSTART;TZID=Europe/Amsterdam:20260210T140000
DTEND;TZID=Europe/Amsterdam:20260210T153000
DTSTAMP:20260426T033234
CREATED:20251113T185647Z
LAST-MODIFIED:20251120T130709Z
UID:17548-1770732000-1770737400@zerowastegroenehart.nl
SUMMARY:Clean Up - Stadshart
DESCRIPTION:Maak van je Stadshart geen vuilkuil!\nDoe mee elke tweede dinsdag van de maand. \nPlastic\, peuken\, blikjes – het hoort niet op straat. Samen maken we korte metten met zwerfafval. De Duurzaamheidswinkel ondersteunt het initiatief en trakteert deelnemers na afloop op gratis koffie en thee. \nGezellig én zinvol \nEen uurtje zwerfvuil rapen is niet alleen goed voor de wijk\, het is ook gezellig en verbindend. Ontmoet buurtgenoten\, steek samen de handen uit de mouwen en geniet daarna van een welverdiende pauze. \n📅 Dinsdag 10 februari 2026 \n⏰ 14.00 uur verzamelen bij De Duurzaamheidswinkel \n☕ 15.00 uur koffie/thee in De Duurzaamheidswinkel \n🛠️ Afvalgrijpers en vuilniszakken zijn aanwezig. \n📧 Meer info: zerowaste@duurzaamwoerden.nl \n📌 Aanmelden is niet nodig\, gewoon komen!
URL:https://zerowastegroenehart.nl/event/clean-up-stadshart-5/
LOCATION:Duurzaamheidswinkel\, Voorstraat 75\, Woerden\, Utrecht\, 3441CH\, Netherlands
CATEGORIES:Clean Up
END:VEVENT
BEGIN:VEVENT
DTSTART;TZID=Europe/Amsterdam:20260207T100000
DTEND;TZID=Europe/Amsterdam:20260207T113000
DTSTAMP:20260426T033234
CREATED:20251013T182511Z
LAST-MODIFIED:20251120T130726Z
UID:17566-1770458400-1770463800@zerowastegroenehart.nl
SUMMARY:Clean Up - Schilderskwartier
DESCRIPTION:Gewoonweg Schoon in het Schilderskwartier\nNa het succes van de Opschoondag steken buurtbewoners van het Schilderskwartier elke eerste zaterdag van de maand de handen uit de mouwen. \nPlastic\, peuken\, blikjes – het hoort niet op straat. Samen maken we korte metten met zwerfafval. \nPraktische info:\n📅 Zaterdag 7 februari 2026\n⏰ 10.00 uur verzamelen bij De Plint\n⏰ 11.00 uur koffie/thee\, afwisselend bij De Plint\, de Kruiskerk of de Jumbo\n🛠️ Afvalgrijpers zijn te verkrijgen bij het Stadserf\, vuilniszakken zijn aanwezig.\n📧 Meer info: zerowaste@duurzaamwoerden.nl\n📌 Aanmelden is niet nodig\, gewoon komen! \nSamen zorgen we voor een spic en span Tournoysveld. Doe mee en laat zien dat jij trots bent op je buurt!
URL:https://zerowastegroenehart.nl/event/clean-up-schilderskwartier-5/
LOCATION:De Plint\, Jozef Isreallaan 20A\, 3443 CS Woerden\, Utrecht\, Netherlands
CATEGORIES:Clean Up
END:VEVENT
BEGIN:VEVENT
DTSTART;TZID=Europe/Amsterdam:20260103T100000
DTEND;TZID=Europe/Amsterdam:20260103T113000
DTSTAMP:20260426T033234
CREATED:20251013T182559Z
LAST-MODIFIED:20251120T130719Z
UID:17567-1767434400-1767439800@zerowastegroenehart.nl
SUMMARY:Clean Up - Schilderskwartier
DESCRIPTION:Gewoonweg Schoon in het Schilderskwartier\nNa het succes van de Opschoondag steken buurtbewoners van het Schilderskwartier elke eerste zaterdag van de maand de handen uit de mouwen. \nPlastic\, peuken\, blikjes – het hoort niet op straat. Samen maken we korte metten met zwerfafval. \nPraktische info:\n📅 Zaterdag 3 januari\n⏰ 10.00 uur verzamelen bij De Plint\n⏰ 11.00 uur koffie/thee\, afwisselend bij De Plint\, de Kruiskerk of de Jumbo\n🛠️ Afvalgrijpers zijn te verkrijgen bij het Stadserf\, vuilniszakken zijn aanwezig.\n📧 Meer info: zerowaste@duurzaamwoerden.nl\n📌 Aanmelden is niet nodig\, gewoon komen! \nSamen zorgen we voor een spic en span Tournoysveld. Doe mee en laat zien dat jij trots bent op je buurt!
URL:https://zerowastegroenehart.nl/event/clean-up-schilderskwartier-6/
LOCATION:De Plint\, Jozef Isreallaan 20A\, 3443 CS Woerden\, Utrecht\, Netherlands
CATEGORIES:Clean Up
END:VEVENT
BEGIN:VEVENT
DTSTART;TZID=Europe/Amsterdam:20251209T140000
DTEND;TZID=Europe/Amsterdam:20251209T153000
DTSTAMP:20260426T033234
CREATED:20251013T175450Z
LAST-MODIFIED:20251120T130648Z
UID:17543-1765288800-1765294200@zerowastegroenehart.nl
SUMMARY:Clean Up - Stadshart
DESCRIPTION:Maak van je Stadshart geen vuilkuil!\nDoe mee elke tweede dinsdag van de maand. \nPlastic\, peuken\, blikjes – het hoort niet op straat. Samen maken we korte metten met zwerfafval. De Duurzaamheidswinkel ondersteunt het initiatief en trakteert deelnemers na afloop op gratis koffie en thee. \nGezellig én zinvol \nEen uurtje zwerfvuil rapen is niet alleen goed voor de wijk\, het is ook gezellig en verbindend. Ontmoet buurtgenoten\, steek samen de handen uit de mouwen en geniet daarna van een welverdiende pauze. \n📅 Dinsdag 9 december \n⏰ 14.00 uur verzamelen bij De Duurzaamheidswinkel \n☕ 15.00 uur koffie/thee in De Duurzaamheidswinkel \n🛠️ Afvalgrijpers en vuilniszakken zijn aanwezig. \n📧 Meer info: zerowaste@duurzaamwoerden.nl \n📌 Aanmelden is niet nodig\, gewoon komen!
URL:https://zerowastegroenehart.nl/event/clean-up-stadshart-3/
LOCATION:Duurzaamheidswinkel\, Voorstraat 75\, Woerden\, Utrecht\, 3441CH\, Netherlands
CATEGORIES:Clean Up
END:VEVENT
BEGIN:VEVENT
DTSTART;TZID=Europe/Amsterdam:20251206T100000
DTEND;TZID=Europe/Amsterdam:20251206T113000
DTSTAMP:20260426T033234
CREATED:20251119T192057Z
LAST-MODIFIED:20251120T130622Z
UID:17562-1765015200-1765020600@zerowastegroenehart.nl
SUMMARY:Clean Up - Schilderskwartier
DESCRIPTION:Gewoonweg Schoon in het Schilderskwartier\nNa het succes van de Opschoondag steken buurtbewoners van het Schilderskwartier elke eerste zaterdag van de maand de handen uit de mouwen. \nPlastic\, peuken\, blikjes – het hoort niet op straat. Samen maken we korte metten met zwerfafval. \nPraktische info:\n📅 Zaterdag 6 november\n⏰ 10.00 uur verzamelen bij De Plint\n⏰ 11.00 uur koffie/thee\, afwisselend bij De Plint\, de Kruiskerk of de Jumbo\n🛠️ Afvalgrijpers zijn te verkrijgen bij het Stadserf\, vuilniszakken zijn aanwezig.\n📧 Meer info: zerowaste@duurzaamwoerden.nl\n📌 Aanmelden is niet nodig\, gewoon komen! \nSamen zorgen we voor een spic en span Tournoysveld. Doe mee en laat zien dat jij trots bent op je buurt!
URL:https://zerowastegroenehart.nl/event/clean-up-schilderskwartier-3/
LOCATION:De Plint\, Jozef Isreallaan 20A\, 3443 CS Woerden\, Utrecht\, Netherlands
CATEGORIES:Clean Up
END:VEVENT
BEGIN:VEVENT
DTSTART;TZID=Europe/Amsterdam:20251115T101500
DTEND;TZID=Europe/Amsterdam:20251115T110000
DTSTAMP:20260426T033234
CREATED:20251002T190536Z
LAST-MODIFIED:20251025T135133Z
UID:16993-1763201700-1763204400@zerowastegroenehart.nl
SUMMARY:Sportsaeck - Bootcamp Clean Up
DESCRIPTION:Sportsaeck – Bootcamp Clean Up\nZet je spieren én je groene hart in! Tijdens de Klimaatweek organiseren wij van Sportsaeck een sportieve Bootcamp Cleanup: een actieve workout waarbij we samen zwerfafval opruimen. Zo maken we niet alleen onszelf\, maar ook onze omgeving sterker en gezonder! Een actieve workout waarbij we samen zwerfafval opruimen. \n💻 aanmelden: https://sportsaeck.trainin.app/checkout/P7V9GA
URL:https://zerowastegroenehart.nl/event/bootcamp-clean-up/
LOCATION:Sportsaeck\, Nieuwstraat\, Woerden\, Utrecht\, Netherlands
CATEGORIES:Clean Up
END:VEVENT
BEGIN:VEVENT
DTSTART;TZID=Europe/Amsterdam:20251115T100000
DTEND;TZID=Europe/Amsterdam:20251115T110000
DTSTAMP:20260426T033234
CREATED:20251006T190333Z
LAST-MODIFIED:20251016T153424Z
UID:17026-1763200800-1763204400@zerowastegroenehart.nl
SUMMARY:Plog je fit met Clytoneus
DESCRIPTION:Ook dit jaar zet Clytoneus zich weer in voor een schonere omgeving tijdens de Klimaatweek! Op zaterdagochtend 15 november organiseren we opnieuw een speciale plogactiviteit: een combinatie van hardlopen en afval rapen\, waarmee we niet alleen aan onze conditie werken\, maar ook de natuur een handje helpen. \nVorig jaar hadden we een geslaagde eerste editie met een dertigtal mila-atleten\, triatleten en trimmers. Dit jaar herhalen we die succesformule met nog wat kleinere subgroepjes en extra differentiatie in snelheden. Zo kan iedereen maximaal genieten van deze ludieke training. Alle leden zijn dan ook van harte welkom om mee te doen en een steentje bij te dragen aan een schone omgeving. \nWe starten om 10.00 uur bij het clubhuis van Clytoneus. De plogactiviteit duurt ongeveer een uur\, waarbij we met afvalzakken en handschoenen op pad gaan om de omgeving rondom onze club op te schonen. Na afloop sluiten we af met een gezellige koffie- en theepauze in het clubhuis\, waar natuurlijk ook wat lekkers klaarstaat. De benodigdheden voor het afval rapen regelen wij\, en de gemeente haalt het verzamelde zwerfafval kosteloos op. \nDit initiatief is niet alleen voor onze leden. In samenwerking met de Nationale Klimaatweek nodigen we ook niet-leden uit om mee te doen. Dit biedt hen de kans om kennis te maken met onze vereniging en tegelijkertijd iets positiefs bij te dragen aan het milieu. \nDoe jij ook mee? Samen maken we onze omgeving schoner! \n🚩 bij het clubhuis van Clytoneus\n💻 aanmelden kan individueel of als (trainings)groep via dit formulier\n☕ afsluiting: koffie\, thee en lekkers in het clubhuis
URL:https://zerowastegroenehart.nl/event/ploggen-met-clytoneus/
LOCATION:Clytoneus\, Sportpark Cromwijck Waardsedijk 29\, Woerden\, Netherlands
CATEGORIES:Clean Up
END:VEVENT
BEGIN:VEVENT
DTSTART;TZID=Europe/Amsterdam:20251113T193000
DTEND;TZID=Europe/Amsterdam:20251113T213000
DTSTAMP:20260426T033234
CREATED:20251006T090849Z
LAST-MODIFIED:20251023T143649Z
UID:17003-1763062200-1763069400@zerowastegroenehart.nl
SUMMARY:Bike Center - Filmavond "When we cycle"
DESCRIPTION:Ontmoet andere fietsliefhebbers in Woerden\nKijk met elkaar de film “When we cycle”\, ontmoet één van de makers van de film\, deel verhalen over duurzaamheid en verbeter samen de fietservaring onder het genot van een goede kop koffie of thee! \nDeze avond wordt een echt feestje voor fietsers!\nBekijk de trailer van  When we Cycle\n \n💻 Aanmelden: fietsavondkw2025@gmail.com\n💰: Gratis\n🚩: Korenmolenlaan 4-B\, 3447 GG Woerden
URL:https://zerowastegroenehart.nl/event/filmavond-when-we-cycle/
LOCATION:Bike Center\, Korenmolenlaan 4-B\, 3447 GG Woerden\, Utrecht\, Netherlands
CATEGORIES:Voorstelling
END:VEVENT
BEGIN:VEVENT
DTSTART;TZID=Europe/Amsterdam:20251111T200000
DTEND;TZID=Europe/Amsterdam:20251111T213000
DTSTAMP:20260426T033234
CREATED:20250901T094750Z
LAST-MODIFIED:20251012T195043Z
UID:3327-1762891200-1762896600@zerowastegroenehart.nl
SUMMARY:Pubquiz in Podium Bredius
DESCRIPTION:Pubquiz je door de klimaatcrisis heen !\nIn teamverband (max 5 personen) beantwoord je de vragen die door een quizmaster gesteld worden. De quiz bestaat uit verschillende rondes waaronder een geluidsronde\, een vegan proefronde\, een plaatjesronde en meer. Het klimaat zal als een sausje je klimaatvreugde garneren tot een vreugdevol Samen Zijn\, bol van melig handelingsperspectief en hoopvolle lol. Laat die serieuze ondertoon maar even thuis bij je moeder.  Wie beweerde dat we een serieus probleem niet luchtig mogen aanpakken? \nQuizmaster Brecht van der Laan is bekend van de pubquiz avonden in Jiwa en de Pompier. \n🍺Inloop vanaf 19.30 uur. Start quiz 20.00 uur\n💰10 euro per team\n💻Aanmelden brechtvanderlaan@proton.me
URL:https://zerowastegroenehart.nl/event/pubquiz/
LOCATION:Podium Bredius\, Burg H.G. van Kempensingel 31\, Woerden\, 3443 AM
CATEGORIES:Activiteit
END:VEVENT
BEGIN:VEVENT
DTSTART;TZID=Europe/Amsterdam:20251111T140000
DTEND;TZID=Europe/Amsterdam:20251111T153000
DTSTAMP:20260426T033234
CREATED:20251011T110051Z
LAST-MODIFIED:20251013T163421Z
UID:17340-1762869600-1762875000@zerowastegroenehart.nl
SUMMARY:Clean Up - Stadshart
DESCRIPTION:Maak van je Stadshart geen vuilkuil!\nDoe mee elke tweede dinsdag van de maand. \nPlastic\, peuken\, blikjes – het hoort niet op straat. Samen maken we korte metten met zwerfafval. De Duurzaamheidswinkel ondersteunt het initiatief en trakteert deelnemers na afloop op gratis koffie en thee. \nGezellig én zinvol \nEen uurtje zwerfvuil rapen is niet alleen goed voor de wijk\, het is ook gezellig en verbindend. Ontmoet buurtgenoten\, steek samen de handen uit de mouwen en geniet daarna van een welverdiende pauze. \n📅 Dinsdag 11 november \n⏰ 14.00 uur verzamelen bij De Duurzaamheidswinkel \n☕ 15.00 uur koffie/thee in De Duurzaamheidswinkel \n🛠️ Afvalgrijpers en vuilniszakken zijn aanwezig. \n📧 Meer info: zerowaste@duurzaamwoerden.nl \n📌 Aanmelden is niet nodig\, gewoon komen!
URL:https://zerowastegroenehart.nl/event/clean-up-stadshart-2/
LOCATION:Duurzaamheidswinkel\, Voorstraat 75\, Woerden\, Utrecht\, 3441CH\, Netherlands
CATEGORIES:Clean Up
END:VEVENT
BEGIN:VEVENT
DTSTART;TZID=Europe/Amsterdam:20251111T100000
DTEND;TZID=Europe/Amsterdam:20251111T120000
DTSTAMP:20260426T033234
CREATED:20251011T055159Z
LAST-MODIFIED:20251027T144145Z
UID:17137-1762855200-1762862400@zerowastegroenehart.nl
SUMMARY:Tuinieren bij Het Dorpshuis
DESCRIPTION:Samen de groene vingers uit de mouwen steken!\nKom ontdekken hoe heerlijk het is om in de tuin bezig te zijn tijdens het tuinuurtje bij het Dorpshuis. We werken van 10:30 tot 12:00. Natuurlijk starten we met koffie om 10 uur! \n💻 Aanmelden bij dorpshuisharmelen@gmail.com \n💻 of bij de balie van het dorpshuis  \n💻 of 0348 506823
URL:https://zerowastegroenehart.nl/event/moestuinieren/
LOCATION:Dorpshuis Harmelen\, Schoollaan 6\, Harmelen\, Utrecht\, 3481 GH\, Netherlands
CATEGORIES:Activiteit
END:VEVENT
BEGIN:VEVENT
DTSTART;TZID=Europe/Amsterdam:20251111T093000
DTEND;TZID=Europe/Amsterdam:20251111T103000
DTSTAMP:20260426T033234
CREATED:20251006T185608Z
LAST-MODIFIED:20251019T092842Z
UID:17023-1762853400-1762857000@zerowastegroenehart.nl
SUMMARY:Zwandeling in de Bomenbuurt
DESCRIPTION:Zwandel erop los in de Bomenbuurt\nMet elkaar een uurtje wandelen en zwerfvuil rapen. Dat geeft een gezellig en een tevreden gevoel. Rob laat je zien waar er dringend opgeruimd moet worden. Heb je geen zwerfvuiltang? Bij het Stadserf kun je er één afhalen of als je het aan Rob laat weten dan kun je er één van hem lenen. \n🚩 Verzamelen bij Huisartsenpraktijk Iepenhof\n💻 Aanmelden: robboxma@gmail.com
URL:https://zerowastegroenehart.nl/event/zwandeling-in-de-bomenbuurt/
LOCATION:Iepenhof\, Huisartsenpraktijk\, Hazelaarstraat 1\, Woerden\, Utrecht\, Netherlands
CATEGORIES:Clean Up
END:VEVENT
BEGIN:VEVENT
DTSTART;TZID=Europe/Amsterdam:20251111T093000
DTEND;TZID=Europe/Amsterdam:20251111T103000
DTSTAMP:20260426T033234
CREATED:20250930T092412Z
LAST-MODIFIED:20251019T095749Z
UID:16980-1762853400-1762857000@zerowastegroenehart.nl
SUMMARY:Zwandeling in Waterrijk
DESCRIPTION:Zwandel een eind weg in Waterrijk\nMet elkaar een uurtje wandelen en zwerfvuil rapen. Dat geeft een gezellig en een tevreden gevoel. Frank staat klaar met grijper en vuilniszakken. Verzamelen aan de Regenboogschool in Waterrijk. Deelname gratis.\nHeb je geen zwerfvuiltang? Bij het Stadserf kun je er één afhalen of als je het aan Frank laat weten dan kun je er één van hem lenen. \n🚩 Verzamelen bij Basisschool De Regenboog\n💻 Aanmelden: frankberghuijs@gmail.com
URL:https://zerowastegroenehart.nl/event/zwandeling-in-waterrijk-2/
LOCATION:BS De Regenboog\, Kallameer 2\, Woerden\, Utrecht\, Netherlands
CATEGORIES:Clean Up
END:VEVENT
BEGIN:VEVENT
DTSTART;TZID=Europe/Amsterdam:20251110T150000
DTEND;TZID=Europe/Amsterdam:20251110T163000
DTSTAMP:20260426T033234
CREATED:20251011T053840Z
LAST-MODIFIED:20251025T140826Z
UID:17130-1762786800-1762792200@zerowastegroenehart.nl
SUMMARY:Kidsclub - Knutselen met afval
DESCRIPTION:Lekker knutselen bij Kidsclub de Plint\n💰 Bijdrage 1\,- per kind en ook welkom met Groene Hart Pas\n💻 Aanmelden niet nodig
URL:https://zerowastegroenehart.nl/event/upcyclen-knutselen-met-afval/
LOCATION:De Plint\, Jozef Isreallaan 20A\, 3443 CS Woerden\, Utrecht\, Netherlands
CATEGORIES:Kinderactiviteit
END:VEVENT
BEGIN:VEVENT
DTSTART;TZID=Europe/Amsterdam:20251108T100000
DTEND;TZID=Europe/Amsterdam:20251108T130000
DTSTAMP:20260426T033234
CREATED:20250910T201603Z
LAST-MODIFIED:20251016T193546Z
UID:3397-1762596000-1762606800@zerowastegroenehart.nl
SUMMARY:Jonge Boompjes Oogsten in Bredius
DESCRIPTION:Stekjes\, maar dan in het groot\nIn park Bredius groeien jonge boomjes in de schaduw van grote bomen. Ze hebben geen kans om te overleven met zo’n grote boom naast zich die al het licht en energie wegneemt. Op een ander plekje kan de zaailing uitgroeien tot een mooie grote boom. Wil je GRATIS een boompje voor in je tuin? Op zaterdag 8 november wijst Marijke\, van Meer Bomen NU\, je aan waar er zaailingen kunnen worden geoogst.  Wethouder Roy Luca steekt zijn groene vingers uit de mouwen en helpt een handje mee. \nLekker de handen uit de mouwen. Zelf geen ruimte voor de boompjes? Dan gaan ze naar “Het Landje van Verbinding” in Woerden\, daar kunnen ze nog veel bomen voor hun voedselbos gebruiken. \n📌 Aanmelden: heijdens@hetnet.nl  \n💻 Landgoed Bredius
URL:https://zerowastegroenehart.nl/event/jonge-boompjes-oogsten/
LOCATION:Pluktuin Bredius\, Pluktuin Bredius\, Woerden\, Utrecht\, Netherlands
CATEGORIES:Activiteit
END:VEVENT
BEGIN:VEVENT
DTSTART;TZID=Europe/Amsterdam:20251101T100000
DTEND;TZID=Europe/Amsterdam:20251101T113000
DTSTAMP:20260426T033234
CREATED:20251013T181741Z
LAST-MODIFIED:20251013T183326Z
UID:17560-1761991200-1761996600@zerowastegroenehart.nl
SUMMARY:Clean Up - Schilderskwartier
DESCRIPTION:Gewoonweg Schoon in het Schilderskwartier\nNa het succes van de Opschoondag steken buurtbewoners van het Schilderskwartier elke eerste zaterdag van de maand de handen uit de mouwen. \nPlastic\, peuken\, blikjes – het hoort niet op straat. Samen maken we korte metten met zwerfafval. \nPraktische info:\n📅 Zaterdag 1 november\n⏰ 10.00 uur verzamelen bij De Plint\n⏰ 11.00 uur koffie/thee\, afwisselend bij De Plint\, de Kruiskerk of de Jumbo\n🛠️ Afvalgrijpers zijn te verkrijgen bij het Stadserf\, vuilniszakken zijn aanwezig.\n📧 Meer info: zerowaste@duurzaamwoerden.nl\n📌 Aanmelden is niet nodig\, gewoon komen! \nSamen zorgen we voor een spic en span Tournoysveld. Doe mee en laat zien dat jij trots bent op je buurt!
URL:https://zerowastegroenehart.nl/event/clean-up-schilderskwartier-2/
LOCATION:De Plint\, Jozef Isreallaan 20A\, 3443 CS Woerden\, Utrecht\, Netherlands
CATEGORIES:Clean Up
END:VEVENT
BEGIN:VEVENT
DTSTART;TZID=Europe/Amsterdam:20251014T140000
DTEND;TZID=Europe/Amsterdam:20251014T153000
DTSTAMP:20260426T033234
CREATED:20251008T114602Z
LAST-MODIFIED:20251012T192528Z
UID:17065-1760450400-1760455800@zerowastegroenehart.nl
SUMMARY:Clean Up - Stadshart
DESCRIPTION:Woerden de schoonste stad van Nederland!\nDoe mee elke tweede dinsdag van de maand. \nPlastic\, peuken\, blikjes – het hoort niet op straat. Samen maken we korte metten met zwerfafval. De Duurzaamheidswinkel ondersteunt het initiatief en trakteert deelnemers na afloop op gratis koffie en thee. \nGezellig én zinvol \nEen uurtje zwerfvuil rapen is niet alleen goed voor de wijk\, het is ook gezellig en verbindend. Ontmoet buurtgenoten\, steek samen de handen uit de mouwen en geniet daarna van een welverdiende pauze. \n📅 Dinsdag 14 oktober \n⏰ 14.00 uur verzamelen bij De Duurzaamheidswinkel \n☕ 15.00 uur koffie/thee in De Duurzaamheidswinkel \n🛠️ Afvalgrijpers en vuilniszakken zijn aanwezig. \n📧 Meer info: zerowaste@duurzaamwoerden.nl \n📌 Aanmelden is niet nodig\, gewoon komen!
URL:https://zerowastegroenehart.nl/event/clean-up-stadshart/
LOCATION:Duurzaamheidswinkel\, Voorstraat 75\, Woerden\, Utrecht\, 3441CH\, Netherlands
CATEGORIES:Clean Up
END:VEVENT
END:VCALENDAR